BEGIN:VCALENDAR
VERSION:2.0
PRODID:-//Klub Stańczyka - ECPv6.15.14//NONSGML v1.0//EN
CALSCALE:GREGORIAN
METHOD:PUBLISH
X-WR-CALNAME:Klub Stańczyka
X-ORIGINAL-URL:https://klubstanczyka.pl
X-WR-CALDESC:Wydarzenia dla Klub Stańczyka
REFRESH-INTERVAL;VALUE=DURATION:PT1H
X-Robots-Tag:noindex
X-PUBLISHED-TTL:PT1H
BEGIN:VTIMEZONE
TZID:UTC
BEGIN:STANDARD
TZOFFSETFROM:+0000
TZOFFSETTO:+0000
TZNAME:UTC
DTSTART:20250101T000000
END:STANDARD
END:VTIMEZONE
BEGIN:VEVENT
DTSTART;TZID=UTC:20260314T110000
DTEND;TZID=UTC:20260314T173000
DTSTAMP:20260421T044912
CREATED:20260308T205058Z
LAST-MODIFIED:20260308T213536Z
UID:2755-1773486000-1773509400@klubstanczyka.pl
SUMMARY:Konferencja pt. „Cztery lata wojny na Ukrainie. Perspektywa globalna i perspektywa lokalna”
DESCRIPTION:Zapraszamy na spotkanie w Klubie Stańczyka pt. „Cztery lata wojny na Ukrainie. Perspektywa globalna i perspektywa lokalna”. \nUWAGA! Rozpoczęcie wydarzenia: godz. 11:00 \nProwadzenie konferencji: red. Łukasz Karpiel\, zastępca redaktora naczelnego PCh24.pl. \nProsimy o dokonanie rezerwacji miejsca\, wypełniając formularz znajdujący się u dołu strony.  \nProgram konferencji:  \n11:00 – 11:10 \n\nOtwarcie konferencji: red. Piotr Doerre\n\n11:10 – 11:50 \n\nprof. Marek Kornat (UKSW) – „Moskwa wobec wojny na Ukrainie”.\n\n11:50 – 12:30 \n\nprof. Mieczysław Ryba (KUL) – „Kijów wobec wojny na Ukrainie”.\n\n12:30 – 13:00 \n\nPrzerwa kawowa\n\n13:00 – 13:40  \n\nprof. Grzegorz Kucharczyk – „Berlin wobec wojny na Ukrainie”.\n\n13:40 – 14:20 \n\nprof. Michał Lubina – „Pekin wobec wojny na Ukrainie”.\n\n14:20 – 15:30 \n\nPrzerwa\n\n15:30 – 16:10 \n\ndr Jakub Majewski – „Waszyngton wobec wojny na Ukrainie”.\n\n16:10 – 17:30 \nDyskusja \n  \nProsimy o dokonanie rezerwacji miejsca\, wypełniając formularz poniżej. 
URL:https://klubstanczyka.pl/wydarzenie/konferencja-pt-cztery-lata-wojny-na-ukrainie-perspektywa-globalna-i-perspektywa-lokalna/
END:VEVENT
END:VCALENDAR