BEGIN:VCALENDAR
VERSION:2.0
PRODID:-//Klub Stańczyka - ECPv6.15.14//NONSGML v1.0//EN
CALSCALE:GREGORIAN
METHOD:PUBLISH
X-WR-CALNAME:Klub Stańczyka
X-ORIGINAL-URL:https://klubstanczyka.pl
X-WR-CALDESC:Wydarzenia dla Klub Stańczyka
REFRESH-INTERVAL;VALUE=DURATION:PT1H
X-Robots-Tag:noindex
X-PUBLISHED-TTL:PT1H
BEGIN:VTIMEZONE
TZID:UTC
BEGIN:STANDARD
TZOFFSETFROM:+0000
TZOFFSETTO:+0000
TZNAME:UTC
DTSTART:20250101T000000
END:STANDARD
END:VTIMEZONE
BEGIN:VEVENT
DTSTART;TZID=UTC:20260309T173000
DTEND;TZID=UTC:20260309T200000
DTSTAMP:20260422T235542
CREATED:20260301T225041Z
LAST-MODIFIED:20260302T114627Z
UID:2753-1773077400-1773086400@klubstanczyka.pl
SUMMARY:Spotkanie dla pań pt. „Feminizm: wsparcie czy pułapka dla kobiet?”
DESCRIPTION:Zapraszamy na spotkanie w Klubie Stańczyka pt. „Feminizm: wsparcie czy pułapka dla kobiet?”. \nNa to spotkanie w szczególności zapraszamy panie.  \nWydarzenie jest kolejnym z cyklu spotkań Klubu św. Jadwigi. \nGodz. 17:30 \nProsimy o dokonanie rezerwacji miejsca\, wypełniając formularz poniżej.
URL:https://klubstanczyka.pl/wydarzenie/spotkanie-dla-pan-pt-feminizm-wsparcie-czy-pulapka-dla-kobiet/
END:VEVENT
END:VCALENDAR