BEGIN:VCALENDAR
VERSION:2.0
PRODID:-//Klub Stańczyka - ECPv6.15.14//NONSGML v1.0//EN
CALSCALE:GREGORIAN
METHOD:PUBLISH
X-WR-CALNAME:Klub Stańczyka
X-ORIGINAL-URL:https://klubstanczyka.pl
X-WR-CALDESC:Wydarzenia dla Klub Stańczyka
REFRESH-INTERVAL;VALUE=DURATION:PT1H
X-Robots-Tag:noindex
X-PUBLISHED-TTL:PT1H
BEGIN:VTIMEZONE
TZID:UTC
BEGIN:STANDARD
TZOFFSETFROM:+0000
TZOFFSETTO:+0000
TZNAME:UTC
DTSTART:20250101T000000
END:STANDARD
END:VTIMEZONE
BEGIN:VEVENT
DTSTART;TZID=UTC:20260317T180000
DTEND;TZID=UTC:20260317T200000
DTSTAMP:20260421T045435
CREATED:20260308T205544Z
LAST-MODIFIED:20260308T213555Z
UID:2757-1773770400-1773777600@klubstanczyka.pl
SUMMARY:Spotkanie z cyklu "Z Prawej perspektywy" pt. "Proces kierownictwa Stronnictwa Narodowego w maju 1948
DESCRIPTION:Zapraszamy na spotkanie w Klubie Stańczyka z cyklu „Z prawej perspektywy”. Temat spotkania: „Proces kierownictwa Stronnictwa Narodowego w maju 1948 roku”. \nNaszym gościem będzie Michał Gruszczyński\, historyk i varsavianista\, pracownik Muzeum Żołnierzy Wyklętych i Więźniów Politycznych PRL w Warszawie.  \nGodz. 18:00 \nWydarzenie organizowane jest we współpracy ze Stowarzyszeniem Wiara i Czyn. \nProsimy o dokonanie rezerwacji miejsca\, wypełniając formularz poniżej.
URL:https://klubstanczyka.pl/wydarzenie/spotkanie-z-cyklu-z-prawej-perspektywy-pt-proces-kierownictwa-stronnictwa-narodowego-w-maju-1948/
END:VEVENT
END:VCALENDAR