BEGIN:VCALENDAR
VERSION:2.0
PRODID:-//Klub Stańczyka - ECPv6.15.14//NONSGML v1.0//EN
CALSCALE:GREGORIAN
METHOD:PUBLISH
X-WR-CALNAME:Klub Stańczyka
X-ORIGINAL-URL:https://klubstanczyka.pl
X-WR-CALDESC:Wydarzenia dla Klub Stańczyka
REFRESH-INTERVAL;VALUE=DURATION:PT1H
X-Robots-Tag:noindex
X-PUBLISHED-TTL:PT1H
BEGIN:VTIMEZONE
TZID:UTC
BEGIN:STANDARD
TZOFFSETFROM:+0000
TZOFFSETTO:+0000
TZNAME:UTC
DTSTART:20250101T000000
END:STANDARD
END:VTIMEZONE
BEGIN:VEVENT
DTSTART;TZID=UTC:20260306T180000
DTEND;TZID=UTC:20260306T200000
DTSTAMP:20260422T222000
CREATED:20260301T223632Z
LAST-MODIFIED:20260301T223901Z
UID:2749-1772820000-1772827200@klubstanczyka.pl
SUMMARY:Spotkanie z prof. Andrzejem Zybertowiczem poświęcone sztucznej inteligencji
DESCRIPTION:Zapraszamy na spotkanie w Klubie Stańczyka pt. „Sztuczna inteligencja: wyzwanie\, wobec którego wspólnie stoimy”. \nGość: prof. dr hab. Andrzej Zybertowicz\, socjolog\, nauczyciel akademicki\, doradca społeczny trzech prezydentów RP: Lecha Kaczyńskiego\, Andrzeja Dudy oraz Karola Nawrockiego. \nSpotkanie poprowadzi Paweł Ozdoba\, dyrektor Klubu Stańczyka. \nGodz. 18:00 \nPodczas spotkania dostępne będą książki prof. Andrzeja Zybertowicza\, wydane przez wydawnictwo Zona Zero. \nOpis książki od wydawcy: „Sztuczna inteligencja (AI) – czy już depcze – nam ludziom – po piętach? A może na niektórych polach właśnie nas wyprzedza? Czy potrafimy przewidzieć\, dokąd zmierza? A my wraz z nią? W co ostatecznie zmieni nasze życie\, naszą pracę\, nasze relacje z bliskimi?  W książce „AI Eksploracja” Andrzej Zybertowicz\, znany socjolog\, uznany ekspert w dziedzinie nowych technologii\, mierzy się nie tylko z takimi pytaniami. Przestrzega przed bezkrytycznym techno-entuzjazmem. Szuka jak najtrafniejszych ram interpretacyjnych do uchwycenia fenomenu AI – zjawiska\, które dotąd ludzkości się nie przydarzyło. Zjawiska\, które jednocześnie fascynuje i uwodzi\,  ale także niepokoi\, a niektórych może i przeraża”. \nProsimy o dokonanie rezerwacji miejsca\, wypełniając formularz poniżej.
URL:https://klubstanczyka.pl/wydarzenie/spotkanie-z-prof-andrzejem-zybertowiczem-poswiecone-sztucznej-inteligencji/
END:VEVENT
END:VCALENDAR